BEGIN:VCALENDAR
VERSION:2.0
PRODID:-//Gay Center - ECPv6.15.20//NONSGML v1.0//EN
CALSCALE:GREGORIAN
METHOD:PUBLISH
X-ORIGINAL-URL:https://gaycenter.it
X-WR-CALDESC:Eventi per Gay Center
REFRESH-INTERVAL;VALUE=DURATION:PT1H
X-Robots-Tag:noindex
X-PUBLISHED-TTL:PT1H
BEGIN:VTIMEZONE
TZID:Europe/Rome
BEGIN:DAYLIGHT
TZOFFSETFROM:+0100
TZOFFSETTO:+0200
TZNAME:CEST
DTSTART:20220327T010000
END:DAYLIGHT
BEGIN:STANDARD
TZOFFSETFROM:+0200
TZOFFSETTO:+0100
TZNAME:CET
DTSTART:20221030T010000
END:STANDARD
BEGIN:DAYLIGHT
TZOFFSETFROM:+0100
TZOFFSETTO:+0200
TZNAME:CEST
DTSTART:20230326T010000
END:DAYLIGHT
BEGIN:STANDARD
TZOFFSETFROM:+0200
TZOFFSETTO:+0100
TZNAME:CET
DTSTART:20231029T010000
END:STANDARD
BEGIN:DAYLIGHT
TZOFFSETFROM:+0100
TZOFFSETTO:+0200
TZNAME:CEST
DTSTART:20240331T010000
END:DAYLIGHT
BEGIN:STANDARD
TZOFFSETFROM:+0200
TZOFFSETTO:+0100
TZNAME:CET
DTSTART:20241027T010000
END:STANDARD
END:VTIMEZONE
BEGIN:VEVENT
DTSTART;TZID=Europe/Rome:20230502T163000
DTEND;TZID=Europe/Rome:20230502T183000
DTSTAMP:20260422T102756
CREATED:20230417T142457Z
LAST-MODIFIED:20230417T142457Z
UID:1691-1683045000-1683052200@gaycenter.it
SUMMARY:Archivio LGBT+
DESCRIPTION:Preferibile accesso su prenotazione a archivio@gaycenter.it
URL:https://gaycenter.it/evento/archivio-lgbt-11/
LOCATION:Rainbowall – Via Galvani 51 F\, via Galvani 51F\, Roma\, 00153\, Italia
END:VEVENT
BEGIN:VEVENT
DTSTART;TZID=Europe/Rome:20230504T200000
DTEND;TZID=Europe/Rome:20230504T213000
DTSTAMP:20260422T102756
CREATED:20230417T142545Z
LAST-MODIFIED:20230417T142545Z
UID:1693-1683230400-1683235800@gaycenter.it
SUMMARY:Sincoro
DESCRIPTION:Prove Corali – Coro LGBT+
URL:https://gaycenter.it/evento/sincoro-12/
LOCATION:Rainbowall – Via Galvani 51 F\, via Galvani 51F\, Roma\, 00153\, Italia
END:VEVENT
BEGIN:VEVENT
DTSTART;TZID=Europe/Rome:20230505T183000
DTEND;TZID=Europe/Rome:20230505T200000
DTSTAMP:20260422T102756
CREATED:20230417T142647Z
LAST-MODIFIED:20230427T144604Z
UID:1695-1683311400-1683316800@gaycenter.it
SUMMARY:Training Ballrhome
DESCRIPTION:Training Ballrhome
URL:https://gaycenter.it/evento/trainingballrhome/
LOCATION:Rainbowall – Via Galvani 51 F\, via Galvani 51F\, Roma\, 00153\, Italia
END:VEVENT
BEGIN:VEVENT
DTSTART;TZID=Europe/Rome:20230509T163000
DTEND;TZID=Europe/Rome:20230509T193000
DTSTAMP:20260422T102756
CREATED:20230424T104638Z
LAST-MODIFIED:20230424T104757Z
UID:1703-1683649800-1683660600@gaycenter.it
SUMMARY:Archivio LGBT+
DESCRIPTION:Preferibile accesso su prenotazione a archivio@gaycenter.it
URL:https://gaycenter.it/evento/archivio-lgbt-12/
LOCATION:Rainbowall – Via Galvani 51 F\, via Galvani 51F\, Roma\, 00153\, Italia
END:VEVENT
BEGIN:VEVENT
DTSTART;TZID=Europe/Rome:20230509T170000
DTEND;TZID=Europe/Rome:20230509T190000
DTSTAMP:20260422T102756
CREATED:20230506T084736Z
LAST-MODIFIED:20230506T084736Z
UID:1763-1683651600-1683658800@gaycenter.it
SUMMARY:Sportello Intercultura
DESCRIPTION:Necessaria prenotazione tramite mail info@gayhelpline.it o 800 713 713
URL:https://gaycenter.it/evento/sportello-intercultura-6/
LOCATION:via Zabaglia\, 14\, via Zabaglia\, 14\, Roma\, 00154\, Italia
END:VEVENT
BEGIN:VEVENT
DTSTART;TZID=Europe/Rome:20230511T200000
DTEND;TZID=Europe/Rome:20230511T220000
DTSTAMP:20260422T102756
CREATED:20230424T105000Z
LAST-MODIFIED:20230424T105000Z
UID:1706-1683835200-1683842400@gaycenter.it
SUMMARY:Sincoro
DESCRIPTION:Prove Corali – Coro LGBT
URL:https://gaycenter.it/evento/sincoro-13/
LOCATION:Rainbowall – Via Galvani 51 F\, via Galvani 51F\, Roma\, 00153\, Italia
END:VEVENT
BEGIN:VEVENT
DTSTART;TZID=Europe/Rome:20230513T160000
DTEND;TZID=Europe/Rome:20230513T180000
DTSTAMP:20260422T102756
CREATED:20230508T082442Z
LAST-MODIFIED:20230508T082442Z
UID:1774-1683993600-1684000800@gaycenter.it
SUMMARY:Snart – Gruppo Trans Under 27
DESCRIPTION:Socializzazione\, cultura\, dialogo e inclusione per tutte le persone trans under 27
URL:https://gaycenter.it/evento/snart-gruppo-trans-under-27-6/
LOCATION:via Zabaglia\, 14\, via Zabaglia\, 14\, Roma\, 00154\, Italia
END:VEVENT
BEGIN:VEVENT
DTSTART;TZID=Europe/Rome:20230515T183000
DTEND;TZID=Europe/Rome:20230515T200000
DTSTAMP:20260422T102756
CREATED:20230504T100646Z
LAST-MODIFIED:20230504T100646Z
UID:1730-1684175400-1684180800@gaycenter.it
SUMMARY:Test HIV
DESCRIPTION:Prenotazione su romacheckpoint.com
URL:https://gaycenter.it/evento/test-hiv-13/
LOCATION:Rainbowall – Via Galvani 51 F\, via Galvani 51F\, Roma\, 00153\, Italia
END:VEVENT
BEGIN:VEVENT
DTSTART;TZID=Europe/Rome:20230516T163000
DTEND;TZID=Europe/Rome:20230516T193000
DTSTAMP:20260422T102756
CREATED:20230502T152705Z
LAST-MODIFIED:20230502T152705Z
UID:1713-1684254600-1684265400@gaycenter.it
SUMMARY:Archivio LGBT+
DESCRIPTION:Preferibile accesso su prenotazione a archivio@gaycenter.it
URL:https://gaycenter.it/evento/archivio-lgbt-10/
END:VEVENT
BEGIN:VEVENT
DTSTART;TZID=Europe/Rome:20230516T200000
DTEND;TZID=Europe/Rome:20230516T220000
DTSTAMP:20260422T102756
CREATED:20230512T084121Z
LAST-MODIFIED:20230512T084121Z
UID:1783-1684267200-1684274400@gaycenter.it
SUMMARY:Sincoro
DESCRIPTION:Prove Corali – Coro LGBT
URL:https://gaycenter.it/evento/sincoro-16/
LOCATION:Rainbowall – Via Galvani 51 F\, via Galvani 51F\, Roma\, 00153\, Italia
END:VEVENT
BEGIN:VEVENT
DTSTART;TZID=Europe/Rome:20230517T210000
DTEND;TZID=Europe/Rome:20230517T233000
DTSTAMP:20260422T102756
CREATED:20230511T125012Z
LAST-MODIFIED:20230511T125104Z
UID:1780-1684357200-1684366200@gaycenter.it
SUMMARY:GIORNATA OMOBITRANSFOBIA – INCONTRO CON CELINE SCIAMMA C/O CINEMA GIULIO CESARE
DESCRIPTION:In occasione della Giornata Internazionale contro l’Omofobia\, la Bifobia\, la Transfobia \nArcigay Roma e Circuito Cinema vi invitano al Cinema Giulio Cesare il 17 Maggio ore 21 per una serata speciale \n🎙️ Q&A con la regista Céline Sciamma \n🎥 Proiezione speciale del suo “Ritratto della giovane in fiamme” (v.o.s.) \nacquista qui il ticket: https://ccroma.18tickets.it/film/5080 \n“1770. Marianne\, pittrice di talento\, viene ingaggiata per fare il ritratto di nozze di Héloise\, una giovane donna che tenta di resistere al suo destino\, rifiutando anche di posare. Marianne dovrà dipingerla di nascosto e le due donne inizieranno a frequentarsi. Tra loro scatta un amore travolgente e inaspettato che\, nonostante i venti di rivoluzione\, risulta imprevisto e inaccettabile. Uno sguardo nel passato che sembra raccontare anche dei nostri giorni.” \nIl film è stato premiato con il Prix du scenario e la Queer Palm a Cannes\, Premio Cesar per la migliore fotografia\, EFA per la miglior sceneggiatura. \nCeline Sciamma\, regista e sceneggiatrice francese dichiaratamente lesbica\, nel 2011 ha vinto in Italia il Premio Ottavio Mai e Premio del pubblico al Lovers Film Festival di Torino per il suo secondo lungometraggio\, Tomboy. \n \nacquista qui il ticket: https://ccroma.18tickets.it/film/5080 \n📍 Cinema Giulio Cesare \n🕘 H 21:00 – Viale Giulio Cesare\, 229
URL:https://gaycenter.it/evento/giornata-omobitransfobia-incontro-con-celine-sciamma-c-o-cinema-giulio-cesare/
LOCATION:Cinema Giulio Cesare\, Viale Giulio Cesare\, 229\, Roma
END:VEVENT
BEGIN:VEVENT
DTSTART;TZID=Europe/Rome:20230518T200000
DTEND;TZID=Europe/Rome:20230518T220000
DTSTAMP:20260422T102756
CREATED:20230502T152730Z
LAST-MODIFIED:20230502T152730Z
UID:1715-1684440000-1684447200@gaycenter.it
SUMMARY:Sincoro
DESCRIPTION:Prove Corali – Coro LGBT
URL:https://gaycenter.it/evento/sincoro-14/
END:VEVENT
BEGIN:VEVENT
DTSTART;TZID=Europe/Rome:20230522T183000
DTEND;TZID=Europe/Rome:20230522T200000
DTSTAMP:20260422T102756
CREATED:20230504T100715Z
LAST-MODIFIED:20230504T100715Z
UID:1732-1684780200-1684785600@gaycenter.it
SUMMARY:Test HIV
DESCRIPTION:Prenotazione su romacheckpoint.com
URL:https://gaycenter.it/evento/test-hiv-14/
LOCATION:Rainbowall – Via Galvani 51 F\, via Galvani 51F\, Roma\, 00153\, Italia
END:VEVENT
BEGIN:VEVENT
DTSTART;TZID=Europe/Rome:20230523T163000
DTEND;TZID=Europe/Rome:20230523T193000
DTSTAMP:20260422T102756
CREATED:20230508T082111Z
LAST-MODIFIED:20230508T082111Z
UID:1767-1684859400-1684870200@gaycenter.it
SUMMARY:Archivio LGBT+
DESCRIPTION:Preferibile accesso su prenotazione a archivio@gaycenter.it
URL:https://gaycenter.it/evento/archivio-lgbt-13/
LOCATION:Rainbowall – Via Galvani 51 F\, via Galvani 51F\, Roma\, 00153\, Italia
END:VEVENT
BEGIN:VEVENT
DTSTART;TZID=Europe/Rome:20230523T170000
DTEND;TZID=Europe/Rome:20230523T190000
DTSTAMP:20260422T102756
CREATED:20230506T084840Z
LAST-MODIFIED:20230506T085031Z
UID:1765-1684861200-1684868400@gaycenter.it
SUMMARY:Sportello Intercultura
DESCRIPTION:Necessaria prenotazione tramite mail info@gayhelpline.it o 800 713 713
URL:https://gaycenter.it/evento/sportello-intercultura-7/
LOCATION:via Zabaglia\, 14\, via Zabaglia\, 14\, Roma\, 00154\, Italia
END:VEVENT
BEGIN:VEVENT
DTSTART;TZID=Europe/Rome:20230525T190000
DTEND;TZID=Europe/Rome:20230525T210000
DTSTAMP:20260422T102756
CREATED:20230520T104018Z
LAST-MODIFIED:20230520T104018Z
UID:1816-1685041200-1685048400@gaycenter.it
SUMMARY:Presentazione del libro GAY BAR
DESCRIPTION:Giovedì 25 maggio alle ore 19 Jeremy Atherton Lin presenta Gay Bar al Monk a Roma.  \nInterviene Pietro Turano.  \nEvento in collaborazione con ArciGay Roma.  \nRifugio\, palcoscenico\, spazio di incontri\, di solidarietà\, di espressione sessuale: il bar gay è stato a lungo il luogo in cui una comunità priva di diritti e di rappresentazione\, esclusa dal centro della scena e delle città\, ha potuto riunirsi\, sperimentare l’appartenenza\, esistere davvero. Oggi\, uno per uno\, quei luoghi stanno scomparendo\, chiusi oppure trasformati in qualcosa di più innocuo (e certo più commerciabile). Possiamo leggerlo come un buon segno\, la dimostrazione che non c’è più ragione di nascondersi; ma\, senza voler negare il valore di quello che abbiamo guadagnato\, è possibile raccontare anche quello che stiamo perdendo? \n\n\nMuovendosi tra analisi politica\, ricostruzione storica\, aneddoti personali e una giusta dose di gossip\, Jeremy Atherton Lin ci guida in un tour transatlantico dei locali che hanno segnato la sua vita e la storia della comunità LGBTQ\, una comunità che forse è più frammentata e meno inclusiva di come vorrebbe rappresentarsi. Gay Bar potrebbe essere solo una raffinata (e necessaria) indagine sul legame tra luoghi e identità\, non fosse che segna l’irruzione nella scena letteraria di un autore strepitoso. In una prosa sfavillante come una palla da discoteca o malinconica come l’alba che accompagna il ritorno a casa\, Atherton Lin ha scritto uno di quei libri rarissimi che sono insieme lettura colta e guilty pleasure: un perturbante memoir erotico\, un romanzo d’amore avventuroso\, un’analisi poetica del desiderio che non fa distinzione di generi né di orientamenti e accoglie chiunque abbia esperienza o nostalgia delle notti fuori\, dei corpi e degli sguardi\, della musica e delle luci\, delle storie che viviamo a volte solo per il gusto di poterle poi raccontare. «Ci sono notti che hanno un battito udibile\, e noi balliamo».
URL:https://gaycenter.it/evento/presentazione-del-libro-gay-bar/
LOCATION:Monk\, Via Giuseppe Mirri\, 35\, Roma\, Italia
ATTACH;FMTTYPE=image/jpeg:https://gaycenter.it/wp-content/uploads/sites/2/2023/05/WhatsApp-Image-2023-05-12-at-13.59.45.jpeg
END:VEVENT
BEGIN:VEVENT
DTSTART;TZID=Europe/Rome:20230525T200000
DTEND;TZID=Europe/Rome:20230525T220000
DTSTAMP:20260422T102756
CREATED:20230508T082300Z
LAST-MODIFIED:20230508T082300Z
UID:1771-1685044800-1685052000@gaycenter.it
SUMMARY:Sincoro
DESCRIPTION:Prove Corali – Coro LGBT
URL:https://gaycenter.it/evento/sincoro-15/
LOCATION:Rainbowall – Via Galvani 51 F\, via Galvani 51F\, Roma\, 00153\, Italia
END:VEVENT
BEGIN:VEVENT
DTSTART;TZID=Europe/Rome:20230526T183000
DTEND;TZID=Europe/Rome:20230526T200000
DTSTAMP:20260422T102756
CREATED:20230508T082643Z
LAST-MODIFIED:20230508T082643Z
UID:1778-1685125800-1685131200@gaycenter.it
SUMMARY:Training Ballrhome
DESCRIPTION:Training Ballrhome
URL:https://gaycenter.it/evento/training-ballrhome-2/
LOCATION:Rainbowall – Via Galvani 51 F\, via Galvani 51F\, Roma\, 00153\, Italia
END:VEVENT
BEGIN:VEVENT
DTSTART;TZID=Europe/Rome:20230527T153000
DTEND;TZID=Europe/Rome:20230527T180000
DTSTAMP:20260422T102756
CREATED:20230508T082512Z
LAST-MODIFIED:20230508T082512Z
UID:1776-1685201400-1685210400@gaycenter.it
SUMMARY:Snart – Gruppo Trans Under 27
DESCRIPTION:Socializzazione\, cultura\, dialogo e inclusione per tutte le persone trans under 27
URL:https://gaycenter.it/evento/snart-gruppo-trans-under-27-7/
LOCATION:via Zabaglia\, 14\, via Zabaglia\, 14\, Roma\, 00154\, Italia
END:VEVENT
BEGIN:VEVENT
DTSTART;TZID=Europe/Rome:20230529T183000
DTEND;TZID=Europe/Rome:20230529T200000
DTSTAMP:20260422T102756
CREATED:20230504T100750Z
LAST-MODIFIED:20230504T100750Z
UID:1734-1685385000-1685390400@gaycenter.it
SUMMARY:Test HIV
DESCRIPTION:Prenotazione su romacheckpoint.com
URL:https://gaycenter.it/evento/test-hiv-15/
LOCATION:Rainbowall – Via Galvani 51 F\, via Galvani 51F\, Roma\, 00153\, Italia
END:VEVENT
BEGIN:VEVENT
DTSTART;TZID=Europe/Rome:20230530T163000
DTEND;TZID=Europe/Rome:20230530T193000
DTSTAMP:20260422T102756
CREATED:20230508T082201Z
LAST-MODIFIED:20230508T082201Z
UID:1769-1685464200-1685475000@gaycenter.it
SUMMARY:Archivio LGBT+
DESCRIPTION:Preferibile accesso su prenotazione a archivio@gaycenter.it
URL:https://gaycenter.it/evento/archivio-lgbt-14/
LOCATION:Rainbowall – Via Galvani 51 F\, via Galvani 51F\, Roma\, 00153\, Italia
END:VEVENT
BEGIN:VEVENT
DTSTART;TZID=Europe/Rome:20230530T183000
DTEND;TZID=Europe/Rome:20230530T200000
DTSTAMP:20260422T102756
CREATED:20230504T100813Z
LAST-MODIFIED:20230504T100813Z
UID:1736-1685471400-1685476800@gaycenter.it
SUMMARY:Test HIV
DESCRIPTION:Prenotazione su romacheckpoint.com
URL:https://gaycenter.it/evento/test-hiv-16/
LOCATION:Rainbowall – Via Galvani 51 F\, via Galvani 51F\, Roma\, 00153\, Italia
END:VEVENT
END:VCALENDAR