BEGIN:VCALENDAR
VERSION:2.0
PRODID:-//Gay Center - ECPv6.15.20//NONSGML v1.0//EN
CALSCALE:GREGORIAN
METHOD:PUBLISH
X-ORIGINAL-URL:https://gaycenter.it
X-WR-CALDESC:Eventi per Gay Center
REFRESH-INTERVAL;VALUE=DURATION:PT1H
X-Robots-Tag:noindex
X-PUBLISHED-TTL:PT1H
BEGIN:VTIMEZONE
TZID:Europe/Rome
BEGIN:DAYLIGHT
TZOFFSETFROM:+0100
TZOFFSETTO:+0200
TZNAME:CEST
DTSTART:20220327T010000
END:DAYLIGHT
BEGIN:STANDARD
TZOFFSETFROM:+0200
TZOFFSETTO:+0100
TZNAME:CET
DTSTART:20221030T010000
END:STANDARD
BEGIN:DAYLIGHT
TZOFFSETFROM:+0100
TZOFFSETTO:+0200
TZNAME:CEST
DTSTART:20230326T010000
END:DAYLIGHT
BEGIN:STANDARD
TZOFFSETFROM:+0200
TZOFFSETTO:+0100
TZNAME:CET
DTSTART:20231029T010000
END:STANDARD
BEGIN:DAYLIGHT
TZOFFSETFROM:+0100
TZOFFSETTO:+0200
TZNAME:CEST
DTSTART:20240331T010000
END:DAYLIGHT
BEGIN:STANDARD
TZOFFSETFROM:+0200
TZOFFSETTO:+0100
TZNAME:CET
DTSTART:20241027T010000
END:STANDARD
END:VTIMEZONE
BEGIN:VEVENT
DTSTART;TZID=Europe/Rome:20230601T200000
DTEND;TZID=Europe/Rome:20230601T220000
DTSTAMP:20260422T084517
CREATED:20230515T084320Z
LAST-MODIFIED:20230515T084422Z
UID:1800-1685649600-1685656800@gaycenter.it
SUMMARY:Sincoro
DESCRIPTION:Prove Corali – Coro LGBT
URL:https://gaycenter.it/evento/sincoro-17/
LOCATION:Rainbowall – Via Galvani 51 F\, via Galvani 51F\, Roma\, 00153\, Italia
END:VEVENT
BEGIN:VEVENT
DTSTART;TZID=Europe/Rome:20230603T180000
DTEND;TZID=Europe/Rome:20230603T220000
DTSTAMP:20260422T084517
CREATED:20230504T091406Z
LAST-MODIFIED:20230504T091406Z
UID:1724-1685815200-1685829600@gaycenter.it
SUMMARY:The Jungle Kiki Ball
DESCRIPTION:in occasione del mese del Pride \nsponsor e host by Ballrhome Project \n🌴JUNGLE KIKI BALL🌴 \ndedicato a Refuge LGBT\, \nprima casa famiglia per vittime di omotransfobia in famiglia \n\n📍 La Redazione / Via Carlo Emanuele I\, 26 / Roma \n\nMC 🎙Titi Munera \nDJ 💽 Lil Jean Munera \nJUDGES: \nMother Mina Louboutin\nFather Jiji Munera\nMother Nemesi Utopia \nORARI: \nApertura Porte – 18:00 \nRoll Call / LSS e Inizio Kiki Ball – 18:30 \n\n🎟 PARTECIPAZIONE CON DONAZIONE MINIMA DI €10 \n\nper iscrizione compila il seguente form: clicca qui
URL:https://gaycenter.it/evento/the-jungle-kiki-ball/
LOCATION:La Redazione\, via Carlo Emanuele I\, 26\, Roma\, Italia
ATTACH;FMTTYPE=image/png:https://gaycenter.it/wp-content/uploads/sites/2/2023/05/Ballrhome-.png
END:VEVENT
BEGIN:VEVENT
DTSTART;TZID=Europe/Rome:20230606T163000
DTEND;TZID=Europe/Rome:20230606T193000
DTSTAMP:20260422T084517
CREATED:20230606T142536Z
LAST-MODIFIED:20230606T142536Z
UID:1839-1686069000-1686079800@gaycenter.it
SUMMARY:Archivio LGBT+
DESCRIPTION:Preferibile accesso su prenotazione a archivio@gaycenter.it
URL:https://gaycenter.it/evento/archivio-lgbt-15/
LOCATION:Rainbowall – Via Galvani 51 F\, via Galvani 51F\, Roma\, 00153\, Italia
END:VEVENT
BEGIN:VEVENT
DTSTART;TZID=Europe/Rome:20230606T170000
DTEND;TZID=Europe/Rome:20230606T190000
DTSTAMP:20260422T084517
CREATED:20230605T084408Z
LAST-MODIFIED:20230605T084408Z
UID:1834-1686070800-1686078000@gaycenter.it
SUMMARY:Sportello Intercultura
DESCRIPTION:Necessaria prenotazione tramite mail info@gayhelpline.it o 800 713 713
URL:https://gaycenter.it/evento/sportello-intercultura-8/
LOCATION:via Zabaglia\, 14\, via Zabaglia\, 14\, Roma\, 00154\, Italia
END:VEVENT
BEGIN:VEVENT
DTSTART;TZID=Europe/Rome:20230608T210000
DTEND;TZID=Europe/Rome:20230608T230000
DTSTAMP:20260422T084517
CREATED:20230605T084501Z
LAST-MODIFIED:20230606T143532Z
UID:1837-1686258000-1686265200@gaycenter.it
SUMMARY:Sincoro - Anteprima prove
DESCRIPTION:Sincoro si apre. Vieni ad ascoltare le prove
URL:https://gaycenter.it/evento/sincoro-18/
LOCATION:Rainbowall – Via Galvani 51 F\, via Galvani 51F\, Roma\, 00153\, Italia
END:VEVENT
BEGIN:VEVENT
DTSTART;TZID=Europe/Rome:20230610T153000
DTEND;TZID=Europe/Rome:20230610T180000
DTSTAMP:20260422T084517
CREATED:20230515T150735Z
LAST-MODIFIED:20230515T150735Z
UID:1802-1686411000-1686420000@gaycenter.it
SUMMARY:Roma Pride
DESCRIPTION:
URL:https://gaycenter.it/evento/roma-pride/
LOCATION:Piazza della Repubblica\, Piazza della Repubblica\, Roma\, Italia
END:VEVENT
BEGIN:VEVENT
DTSTART;TZID=Europe/Rome:20230613T163000
DTEND;TZID=Europe/Rome:20230613T193000
DTSTAMP:20260422T084517
CREATED:20230606T154844Z
LAST-MODIFIED:20230606T154844Z
UID:1849-1686673800-1686684600@gaycenter.it
SUMMARY:Archivio LGBT+
DESCRIPTION:Preferibile accesso su prenotazione a archivio@gaycenter.it
URL:https://gaycenter.it/evento/archivio-lgbt-16/
LOCATION:Rainbowall – Via Galvani 51 F\, via Galvani 51F\, Roma\, 00153\, Italia
END:VEVENT
BEGIN:VEVENT
DTSTART;TZID=Europe/Rome:20230616T183000
DTEND;TZID=Europe/Rome:20230616T200000
DTSTAMP:20260422T084517
CREATED:20230606T153458Z
LAST-MODIFIED:20230606T153458Z
UID:1843-1686940200-1686945600@gaycenter.it
SUMMARY:Test HIV
DESCRIPTION:Prenotazione su romacheckpoint.com
URL:https://gaycenter.it/evento/test-hiv-17/
LOCATION:Rainbowall – Via Galvani 51 F\, via Galvani 51F\, Roma\, 00153\, Italia
END:VEVENT
BEGIN:VEVENT
DTSTART;TZID=Europe/Rome:20230620T170000
DTEND;TZID=Europe/Rome:20230620T190000
DTSTAMP:20260422T084517
CREATED:20230606T154759Z
LAST-MODIFIED:20230606T154759Z
UID:1847-1687280400-1687287600@gaycenter.it
SUMMARY:Sportello Intercultura
DESCRIPTION:Necessaria prenotazione tramite mail info@gayhelpline.it o 800 713 713
URL:https://gaycenter.it/evento/sportello-intercultura-9/
LOCATION:via Zabaglia\, 14\, via Zabaglia\, 14\, Roma\, 00154\, Italia
END:VEVENT
BEGIN:VEVENT
DTSTART;TZID=Europe/Rome:20230627T183000
DTEND;TZID=Europe/Rome:20230627T200000
DTSTAMP:20260422T084517
CREATED:20230606T153532Z
LAST-MODIFIED:20230607T083728Z
UID:1845-1687890600-1687896000@gaycenter.it
SUMMARY:Test HIV
DESCRIPTION:Prenotazione su romacheckpoint.com
URL:https://gaycenter.it/evento/test-hiv-18/
LOCATION:Rainbowall – Via Galvani 51 F\, via Galvani 51F\, Roma\, 00153\, Italia
END:VEVENT
END:VCALENDAR