BEGIN:VCALENDAR
VERSION:2.0
PRODID:-//Gay Center - ECPv6.15.20//NONSGML v1.0//EN
CALSCALE:GREGORIAN
METHOD:PUBLISH
X-WR-CALNAME:Gay Center
X-ORIGINAL-URL:https://gaycenter.it
X-WR-CALDESC:Eventi per Gay Center
REFRESH-INTERVAL;VALUE=DURATION:PT1H
X-Robots-Tag:noindex
X-PUBLISHED-TTL:PT1H
BEGIN:VTIMEZONE
TZID:Europe/Rome
BEGIN:DAYLIGHT
TZOFFSETFROM:+0100
TZOFFSETTO:+0200
TZNAME:CEST
DTSTART:20220327T010000
END:DAYLIGHT
BEGIN:STANDARD
TZOFFSETFROM:+0200
TZOFFSETTO:+0100
TZNAME:CET
DTSTART:20221030T010000
END:STANDARD
BEGIN:DAYLIGHT
TZOFFSETFROM:+0100
TZOFFSETTO:+0200
TZNAME:CEST
DTSTART:20230326T010000
END:DAYLIGHT
BEGIN:STANDARD
TZOFFSETFROM:+0200
TZOFFSETTO:+0100
TZNAME:CET
DTSTART:20231029T010000
END:STANDARD
BEGIN:DAYLIGHT
TZOFFSETFROM:+0100
TZOFFSETTO:+0200
TZNAME:CEST
DTSTART:20240331T010000
END:DAYLIGHT
BEGIN:STANDARD
TZOFFSETFROM:+0200
TZOFFSETTO:+0100
TZNAME:CET
DTSTART:20241027T010000
END:STANDARD
END:VTIMEZONE
BEGIN:VEVENT
DTSTART;TZID=Europe/Rome:20230912T170000
DTEND;TZID=Europe/Rome:20230912T190000
DTSTAMP:20260422T023800
CREATED:20230830T092541Z
LAST-MODIFIED:20230830T092541Z
UID:1937-1694538000-1694545200@gaycenter.it
SUMMARY:Sportello Intercultura
DESCRIPTION:Necessaria prenotazione tramite mail info@gayhelpline.it o 800 713 713
URL:https://gaycenter.it/evento/sportello-intercultura-14/
LOCATION:via Zabaglia\, 14\, via Zabaglia\, 14\, Roma\, 00154\, Italia
END:VEVENT
BEGIN:VEVENT
DTSTART;TZID=Europe/Rome:20230912T183000
DTEND;TZID=Europe/Rome:20230912T200000
DTSTAMP:20260422T023800
CREATED:20230901T094045Z
LAST-MODIFIED:20230901T094045Z
UID:1940-1694543400-1694548800@gaycenter.it
SUMMARY:Test HIV
DESCRIPTION:Prenotazione su romacheckpoint.com
URL:https://gaycenter.it/evento/test-hiv-19/
LOCATION:Rainbowall – Via Galvani 51 F\, via Galvani 51F\, Roma\, 00153\, Italia
END:VEVENT
BEGIN:VEVENT
DTSTART;TZID=Europe/Rome:20230916T143000
DTEND;TZID=Europe/Rome:20230916T160000
DTSTAMP:20260422T023800
CREATED:20230901T110719Z
LAST-MODIFIED:20230901T110719Z
UID:1947-1694874600-1694880000@gaycenter.it
SUMMARY:Test HIV
DESCRIPTION:Prenotazione su romacheckpoint.com
URL:https://gaycenter.it/evento/test-hiv-22/
LOCATION:Rainbowall – Via Galvani 51 F\, via Galvani 51F\, Roma\, 00153\, Italia
END:VEVENT
BEGIN:VEVENT
DTSTART;TZID=Europe/Rome:20230919T170000
DTEND;TZID=Europe/Rome:20230919T190000
DTSTAMP:20260422T023800
CREATED:20230829T133116Z
LAST-MODIFIED:20230829T133116Z
UID:1931-1695142800-1695150000@gaycenter.it
SUMMARY:Archivio LGBT+
DESCRIPTION:Preferibile accesso su prenotazione a archivio@gaycenter.it
URL:https://gaycenter.it/evento/archivio-lgbt-17/
LOCATION:Rainbowall – Via Galvani 51 F\, via Galvani 51F\, Roma\, 00153\, Italia
END:VEVENT
BEGIN:VEVENT
DTSTART;TZID=Europe/Rome:20230926T170000
DTEND;TZID=Europe/Rome:20230926T190000
DTSTAMP:20260422T023800
CREATED:20230829T133140Z
LAST-MODIFIED:20230829T133157Z
UID:1933-1695747600-1695754800@gaycenter.it
SUMMARY:Archivio LGBT+
DESCRIPTION:Preferibile accesso su prenotazione a archivio@gaycenter.it
URL:https://gaycenter.it/evento/archivio-lgbt-18/
LOCATION:Rainbowall – Via Galvani 51 F\, via Galvani 51F\, Roma\, 00153\, Italia
END:VEVENT
BEGIN:VEVENT
DTSTART;TZID=Europe/Rome:20230926T170000
DTEND;TZID=Europe/Rome:20230926T190000
DTSTAMP:20260422T023800
CREATED:20230919T121518Z
LAST-MODIFIED:20230919T121518Z
UID:1957-1695747600-1695754800@gaycenter.it
SUMMARY:Sportello Intercultura
DESCRIPTION:Necessaria prenotazione tramite mail info@gayhelpline.it o 800 713 713
URL:https://gaycenter.it/evento/sportello-intercultura-15/
LOCATION:via Zabaglia\, 14\, via Zabaglia\, 14\, Roma\, 00154\, Italia
END:VEVENT
BEGIN:VEVENT
DTSTART;TZID=Europe/Rome:20230926T183000
DTEND;TZID=Europe/Rome:20230926T200000
DTSTAMP:20260422T023800
CREATED:20230901T094142Z
LAST-MODIFIED:20230901T094142Z
UID:1942-1695753000-1695758400@gaycenter.it
SUMMARY:Test HIV
DESCRIPTION:Prenotazione su romacheckpoint.com
URL:https://gaycenter.it/evento/test-hiv-20/
LOCATION:Rainbowall – Via Galvani 51 F\, via Galvani 51F\, Roma\, 00153\, Italia
END:VEVENT
BEGIN:VEVENT
DTSTART;TZID=Europe/Rome:20230929T183000
DTEND;TZID=Europe/Rome:20230929T200000
DTSTAMP:20260422T023800
CREATED:20230901T094212Z
LAST-MODIFIED:20230901T094212Z
UID:1944-1696012200-1696017600@gaycenter.it
SUMMARY:Test HIV
DESCRIPTION:Prenotazione su romacheckpoint.com
URL:https://gaycenter.it/evento/test-hiv-21/
LOCATION:Rainbowall – Via Galvani 51 F\, via Galvani 51F\, Roma\, 00153\, Italia
END:VEVENT
END:VCALENDAR