BEGIN:VCALENDAR
VERSION:2.0
PRODID:-//Gay Center - ECPv6.15.20//NONSGML v1.0//EN
CALSCALE:GREGORIAN
METHOD:PUBLISH
X-WR-CALNAME:Gay Center
X-ORIGINAL-URL:https://gaycenter.it
X-WR-CALDESC:Eventi per Gay Center
REFRESH-INTERVAL;VALUE=DURATION:PT1H
X-Robots-Tag:noindex
X-PUBLISHED-TTL:PT1H
BEGIN:VTIMEZONE
TZID:Europe/Rome
BEGIN:DAYLIGHT
TZOFFSETFROM:+0100
TZOFFSETTO:+0200
TZNAME:CEST
DTSTART:20220327T010000
END:DAYLIGHT
BEGIN:STANDARD
TZOFFSETFROM:+0200
TZOFFSETTO:+0100
TZNAME:CET
DTSTART:20221030T010000
END:STANDARD
BEGIN:DAYLIGHT
TZOFFSETFROM:+0100
TZOFFSETTO:+0200
TZNAME:CEST
DTSTART:20230326T010000
END:DAYLIGHT
BEGIN:STANDARD
TZOFFSETFROM:+0200
TZOFFSETTO:+0100
TZNAME:CET
DTSTART:20231029T010000
END:STANDARD
BEGIN:DAYLIGHT
TZOFFSETFROM:+0100
TZOFFSETTO:+0200
TZNAME:CEST
DTSTART:20240331T010000
END:DAYLIGHT
BEGIN:STANDARD
TZOFFSETFROM:+0200
TZOFFSETTO:+0100
TZNAME:CET
DTSTART:20241027T010000
END:STANDARD
END:VTIMEZONE
BEGIN:VEVENT
DTSTART;TZID=Europe/Rome:20231201T180000
DTEND;TZID=Europe/Rome:20231201T200000
DTSTAMP:20260421T221517
CREATED:20231106T120037Z
LAST-MODIFIED:20231106T120037Z
UID:2150-1701453600-1701460800@gaycenter.it
SUMMARY:Gruppo Giovani Under 27
DESCRIPTION:Socializzazione\, cultura\, dialogo e inclusione per tutte le persone under 27
URL:https://gaycenter.it/evento/gruppo-giovani-under-27-10/
LOCATION:Rainbowall – Via Galvani 51 F\, via Galvani 51F\, Roma\, 00153\, Italia
END:VEVENT
BEGIN:VEVENT
DTSTART;TZID=Europe/Rome:20231206T200000
DTEND;TZID=Europe/Rome:20231206T220000
DTSTAMP:20260421T221517
CREATED:20231113T095200Z
LAST-MODIFIED:20231129T093759Z
UID:2154-1701892800-1701900000@gaycenter.it
SUMMARY:Sincoro – Coro LGBT
DESCRIPTION:Eccezionalmente di mercoledì\n\nOgni giovedì alle ore 20:00
URL:https://gaycenter.it/evento/sincoro-coro-lgbt-10/
LOCATION:Rainbowall – Via Galvani 51 F\, via Galvani 51F\, Roma\, 00153\, Italia
END:VEVENT
BEGIN:VEVENT
DTSTART;TZID=Europe/Rome:20231209T170000
DTEND;TZID=Europe/Rome:20231209T183000
DTSTAMP:20260421T221517
CREATED:20231201T103146Z
LAST-MODIFIED:20231201T103146Z
UID:2182-1702141200-1702146600@gaycenter.it
SUMMARY:Test HIV
DESCRIPTION:Prenotazione su romacheckpoint.com
URL:https://gaycenter.it/evento/test-hiv-31/
LOCATION:Rainbowall – Via Galvani 51 F\, via Galvani 51F\, Roma\, 00153\, Italia
END:VEVENT
BEGIN:VEVENT
DTSTART;TZID=Europe/Rome:20231212T170000
DTEND;TZID=Europe/Rome:20231212T190000
DTSTAMP:20260421T221517
CREATED:20231127T124105Z
LAST-MODIFIED:20231127T124105Z
UID:2167-1702400400-1702407600@gaycenter.it
SUMMARY:Sportello Intercultura
DESCRIPTION:Necessaria prenotazione tramite mail info@gayhelpline.it o 800 713 713
URL:https://gaycenter.it/evento/sportello-intercultura-21/
LOCATION:via Zabaglia\, 14\, via Zabaglia\, 14\, Roma\, 00154\, Italia
END:VEVENT
BEGIN:VEVENT
DTSTART;TZID=Europe/Rome:20231212T170000
DTEND;TZID=Europe/Rome:20231212T190000
DTSTAMP:20260421T221517
CREATED:20231127T124402Z
LAST-MODIFIED:20231127T124402Z
UID:2172-1702400400-1702407600@gaycenter.it
SUMMARY:Archivio LGBT+
DESCRIPTION:Preferibile accesso su prenotazione a archivio@gaycenter.it
URL:https://gaycenter.it/evento/archivio-lgbt-29/
LOCATION:Rainbowall – Via Galvani 51 F\, via Galvani 51F\, Roma\, 00153\, Italia
END:VEVENT
BEGIN:VEVENT
DTSTART;TZID=Europe/Rome:20231213T200000
DTEND;TZID=Europe/Rome:20231213T220000
DTSTAMP:20260421T221517
CREATED:20231120T102409Z
LAST-MODIFIED:20231209T105859Z
UID:2161-1702497600-1702504800@gaycenter.it
SUMMARY:Sincoro – Coro LGBT
DESCRIPTION:Eccezionalmente di mercoledì
URL:https://gaycenter.it/evento/sincoro-coro-lgbt-11/
LOCATION:Rainbowall – Via Galvani 51 F\, via Galvani 51F\, Roma\, 00153\, Italia
END:VEVENT
BEGIN:VEVENT
DTSTART;TZID=Europe/Rome:20231217T150000
DTEND;TZID=Europe/Rome:20231217T180000
DTSTAMP:20260421T221517
CREATED:20231209T140422Z
LAST-MODIFIED:20231209T140422Z
UID:2202-1702825200-1702836000@gaycenter.it
SUMMARY:Mercatino di Natale
DESCRIPTION:
URL:https://gaycenter.it/evento/mercatino-di-natale/
END:VEVENT
BEGIN:VEVENT
DTSTART;TZID=Europe/Rome:20231217T180000
DTEND;TZID=Europe/Rome:20231217T200000
DTSTAMP:20260421T221517
CREATED:20231127T124215Z
LAST-MODIFIED:20231209T140340Z
UID:2170-1702836000-1702843200@gaycenter.it
SUMMARY:Tombolata - edit Gruppo Giovani
DESCRIPTION:Tombolata di fine anno aperta a tutti e tutte\nEdit Gruppo Giovani\nAll’inizio è prevista l’esibizione del Sincoro
URL:https://gaycenter.it/evento/gruppo-giovani-under-27-11/
LOCATION:Rainbowall – Via Galvani 51 F\, via Galvani 51F\, Roma\, 00153\, Italia
END:VEVENT
BEGIN:VEVENT
DTSTART;TZID=Europe/Rome:20231218T183000
DTEND;TZID=Europe/Rome:20231218T200000
DTSTAMP:20260421T221517
CREATED:20231201T103224Z
LAST-MODIFIED:20231201T103224Z
UID:2184-1702924200-1702929600@gaycenter.it
SUMMARY:Test HIV
DESCRIPTION:Prenotazione su romacheckpoint.com
URL:https://gaycenter.it/evento/test-hiv-32/
LOCATION:Rainbowall – Via Galvani 51 F\, via Galvani 51F\, Roma\, 00153\, Italia
END:VEVENT
BEGIN:VEVENT
DTSTART;TZID=Europe/Rome:20231219T170000
DTEND;TZID=Europe/Rome:20231219T190000
DTSTAMP:20260421T221517
CREATED:20231211T111708Z
LAST-MODIFIED:20231211T111708Z
UID:2204-1703005200-1703012400@gaycenter.it
SUMMARY:Archivio LGBT+
DESCRIPTION:Preferibile accesso su prenotazione a archivio@gaycenter.it
URL:https://gaycenter.it/evento/archivio-lgbt-28/
LOCATION:Rainbowall – Via Galvani 51 F\, via Galvani 51F\, Roma\, 00153\, Italia
END:VEVENT
BEGIN:VEVENT
DTSTART;TZID=Europe/Rome:20231220T183000
DTEND;TZID=Europe/Rome:20231220T200000
DTSTAMP:20260421T221517
CREATED:20231201T103259Z
LAST-MODIFIED:20231201T103259Z
UID:2186-1703097000-1703102400@gaycenter.it
SUMMARY:Test HIV
DESCRIPTION:Prenotazione su romacheckpoint.com
URL:https://gaycenter.it/evento/test-hiv-33/
LOCATION:Rainbowall – Via Galvani 51 F\, via Galvani 51F\, Roma\, 00153\, Italia
END:VEVENT
BEGIN:VEVENT
DTSTART;TZID=Europe/Rome:20231227T183000
DTEND;TZID=Europe/Rome:20231227T200000
DTSTAMP:20260421T221517
CREATED:20231201T103350Z
LAST-MODIFIED:20231201T103350Z
UID:2188-1703701800-1703707200@gaycenter.it
SUMMARY:Test HIV
DESCRIPTION:Prenotazione su romacheckpoint.com
URL:https://gaycenter.it/evento/test-hiv-34/
LOCATION:Rainbowall – Via Galvani 51 F\, via Galvani 51F\, Roma\, 00153\, Italia
END:VEVENT
END:VCALENDAR