BEGIN:VCALENDAR
VERSION:2.0
PRODID:-//Gay Center - ECPv6.15.20//NONSGML v1.0//EN
CALSCALE:GREGORIAN
METHOD:PUBLISH
X-ORIGINAL-URL:https://gaycenter.it
X-WR-CALDESC:Eventi per Gay Center
REFRESH-INTERVAL;VALUE=DURATION:PT1H
X-Robots-Tag:noindex
X-PUBLISHED-TTL:PT1H
BEGIN:VTIMEZONE
TZID:Europe/Rome
BEGIN:DAYLIGHT
TZOFFSETFROM:+0100
TZOFFSETTO:+0200
TZNAME:CEST
DTSTART:20230326T010000
END:DAYLIGHT
BEGIN:STANDARD
TZOFFSETFROM:+0200
TZOFFSETTO:+0100
TZNAME:CET
DTSTART:20231029T010000
END:STANDARD
BEGIN:DAYLIGHT
TZOFFSETFROM:+0100
TZOFFSETTO:+0200
TZNAME:CEST
DTSTART:20240331T010000
END:DAYLIGHT
BEGIN:STANDARD
TZOFFSETFROM:+0200
TZOFFSETTO:+0100
TZNAME:CET
DTSTART:20241027T010000
END:STANDARD
BEGIN:DAYLIGHT
TZOFFSETFROM:+0100
TZOFFSETTO:+0200
TZNAME:CEST
DTSTART:20250330T010000
END:DAYLIGHT
BEGIN:STANDARD
TZOFFSETFROM:+0200
TZOFFSETTO:+0100
TZNAME:CET
DTSTART:20251026T010000
END:STANDARD
END:VTIMEZONE
BEGIN:VEVENT
DTSTART;TZID=Europe/Rome:20240201T200000
DTEND;TZID=Europe/Rome:20240201T220000
DTSTAMP:20260421T174101
CREATED:20240108T100535Z
LAST-MODIFIED:20240108T100535Z
UID:2289-1706817600-1706824800@gaycenter.it
SUMMARY:Sincoro - Coro LGBT
DESCRIPTION:Ogni giovedì alle ore 20:00 Prove Corali
URL:https://gaycenter.it/evento/sincoro-coro-lgbt-15/
LOCATION:Rainbowall – Via Galvani 51 F\, via Galvani 51F\, Roma\, 00153\, Italia
END:VEVENT
BEGIN:VEVENT
DTSTART;TZID=Europe/Rome:20240202T180000
DTEND;TZID=Europe/Rome:20240202T200000
DTSTAMP:20260421T174101
CREATED:20240108T100633Z
LAST-MODIFIED:20240129T103705Z
UID:2291-1706896800-1706904000@gaycenter.it
SUMMARY:Serata Giochi – edit Gruppo Giovani
DESCRIPTION:evento aperto a tutte e tutti gli amanti dei giochi da tavolo e di società \nsenza limiti d’età – organizzato nello spazio del Gruppo Giovani
URL:https://gaycenter.it/evento/gruppo-giovani-under-27-13/
END:VEVENT
BEGIN:VEVENT
DTSTART;TZID=Europe/Rome:20240206T170000
DTEND;TZID=Europe/Rome:20240206T190000
DTSTAMP:20260421T174101
CREATED:20240115T090439Z
LAST-MODIFIED:20240115T090552Z
UID:2295-1707238800-1707246000@gaycenter.it
SUMMARY:Archivio LGBT+
DESCRIPTION:Preferibile accesso su prenotazione a archivio@gaycenter.it
URL:https://gaycenter.it/evento/archivio-lgbt-34/
LOCATION:Rainbowall – Via Galvani 51 F\, via Galvani 51F\, Roma\, 00153\, Italia
END:VEVENT
BEGIN:VEVENT
DTSTART;TZID=Europe/Rome:20240206T170000
DTEND;TZID=Europe/Rome:20240206T190000
DTSTAMP:20260421T174101
CREATED:20240115T090536Z
LAST-MODIFIED:20240115T090536Z
UID:2297-1707238800-1707246000@gaycenter.it
SUMMARY:Sportello Intercultura
DESCRIPTION:Necessaria prenotazione tramite mail info@gayhelpline.it o 800 713 713
URL:https://gaycenter.it/evento/sportello-intercultura-24/
LOCATION:via Zabaglia\, 14\, via Zabaglia\, 14\, Roma\, 00154\, Italia
END:VEVENT
BEGIN:VEVENT
DTSTART;TZID=Europe/Rome:20240207T210000
DTEND;TZID=Europe/Rome:20240207T220000
DTSTAMP:20260421T174101
CREATED:20240115T090658Z
LAST-MODIFIED:20240115T090658Z
UID:2299-1707339600-1707343200@gaycenter.it
SUMMARY:Salsa Queer
DESCRIPTION:Salsa LGBT Friedly
URL:https://gaycenter.it/evento/salsa-queer/
LOCATION:Rainbowall – Via Galvani 51 F\, via Galvani 51F\, Roma\, 00153\, Italia
END:VEVENT
BEGIN:VEVENT
DTSTART;TZID=Europe/Rome:20240209T180000
DTEND;TZID=Europe/Rome:20240209T200000
DTSTAMP:20260421T174101
CREATED:20240115T090823Z
LAST-MODIFIED:20240115T090823Z
UID:2303-1707501600-1707508800@gaycenter.it
SUMMARY:Gruppo Giovani Under 27
DESCRIPTION:Socializzazione\, cultura\, dialogo e inclusione per tutte le persone under 27
URL:https://gaycenter.it/evento/gruppo-giovani-under-27-14/
LOCATION:Rainbowall – Via Galvani 51 F\, via Galvani 51F\, Roma\, 00153\, Italia
END:VEVENT
BEGIN:VEVENT
DTSTART;TZID=Europe/Rome:20240210T163000
DTEND;TZID=Europe/Rome:20240210T183000
DTSTAMP:20260421T174101
CREATED:20240129T104250Z
LAST-MODIFIED:20240129T104347Z
UID:2333-1707582600-1707589800@gaycenter.it
SUMMARY:Snart - Gruppo Giovani Trans
DESCRIPTION:Socializzazione\, cultura\, dialogo e inclusione per tutte le persone under 30
URL:https://gaycenter.it/evento/snart-gruppo-giovani-trans-3/
LOCATION:via Zabaglia\, 14\, via Zabaglia\, 14\, Roma\, 00154\, Italia
END:VEVENT
BEGIN:VEVENT
DTSTART;TZID=Europe/Rome:20240213T170000
DTEND;TZID=Europe/Rome:20240213T190000
DTSTAMP:20260421T174101
CREATED:20240122T095552Z
LAST-MODIFIED:20240122T095629Z
UID:2309-1707843600-1707850800@gaycenter.it
SUMMARY:Archivio LGBT+
DESCRIPTION:Preferibile accesso su prenotazione a archivio@gaycenter.it
URL:https://gaycenter.it/evento/archivio-lgbt-35/
LOCATION:Rainbowall – Via Galvani 51 F\, via Galvani 51F\, Roma\, 00153\, Italia
END:VEVENT
BEGIN:VEVENT
DTSTART;TZID=Europe/Rome:20240213T183000
DTEND;TZID=Europe/Rome:20240213T200000
DTSTAMP:20260421T174101
CREATED:20240201T103202Z
LAST-MODIFIED:20240201T103202Z
UID:2340-1707849000-1707854400@gaycenter.it
SUMMARY:Test HIV
DESCRIPTION:Prenotazione su romacheckpoint.com
URL:https://gaycenter.it/evento/test-hiv-38/
LOCATION:Rainbowall – Via Galvani 51 F\, via Galvani 51F\, Roma\, 00153\, Italia
END:VEVENT
BEGIN:VEVENT
DTSTART;TZID=Europe/Rome:20240214T200000
DTEND;TZID=Europe/Rome:20240214T213000
DTSTAMP:20260421T174101
CREATED:20240209T151741Z
LAST-MODIFIED:20240209T151741Z
UID:2371-1707940800-1707946200@gaycenter.it
SUMMARY:Sincoro – Coro LGBT
DESCRIPTION:
URL:https://gaycenter.it/evento/sincoro-coro-lgbt-16/
LOCATION:Rainbowall – Via Galvani 51 F\, via Galvani 51F\, Roma\, 00153\, Italia
END:VEVENT
BEGIN:VEVENT
DTSTART;TZID=Europe/Rome:20240214T210000
DTEND;TZID=Europe/Rome:20240214T220000
DTSTAMP:20260421T174101
CREATED:20240122T095837Z
LAST-MODIFIED:20240122T095837Z
UID:2312-1707944400-1707948000@gaycenter.it
SUMMARY:Salsa Queer
DESCRIPTION:Salsa LGBT Friedly
URL:https://gaycenter.it/evento/salsa-queer-2/
LOCATION:Rainbowall – Via Galvani 51 F\, via Galvani 51F\, Roma\, 00153\, Italia
END:VEVENT
BEGIN:VEVENT
DTSTART;TZID=Europe/Rome:20240215T200000
DTEND;TZID=Europe/Rome:20240215T220000
DTSTAMP:20260421T174101
CREATED:20240122T095910Z
LAST-MODIFIED:20240122T095910Z
UID:2314-1708027200-1708034400@gaycenter.it
SUMMARY:Sincoro – Coro LGBT
DESCRIPTION:Ogni giovedì alle ore 20:00
URL:https://gaycenter.it/evento/sincoro-coro-lgbt-17/
LOCATION:Rainbowall – Via Galvani 51 F\, via Galvani 51F\, Roma\, 00153\, Italia
END:VEVENT
BEGIN:VEVENT
DTSTART;TZID=Europe/Rome:20240216T180000
DTEND;TZID=Europe/Rome:20240216T200000
DTSTAMP:20260421T174101
CREATED:20240122T100011Z
LAST-MODIFIED:20240122T100011Z
UID:2316-1708106400-1708113600@gaycenter.it
SUMMARY:Serata Giochi – edit Gruppo Giovani
DESCRIPTION:evento aperto a tutte e tutti gli amanti dei giochi da tavolo e di società \nsenza limiti d’età – organizzato nello spazio del Gruppo Giovani
URL:https://gaycenter.it/evento/serata-giochi-edit-gruppo-giovani/
END:VEVENT
BEGIN:VEVENT
DTSTART;TZID=Europe/Rome:20240220T170000
DTEND;TZID=Europe/Rome:20240220T190000
DTSTAMP:20260421T174101
CREATED:20240129T103857Z
LAST-MODIFIED:20240129T103950Z
UID:2322-1708448400-1708455600@gaycenter.it
SUMMARY:Archivio LGBT+
DESCRIPTION:Preferibile accesso su prenotazione a archivio@gaycenter.it
URL:https://gaycenter.it/evento/archivio-lgbt-36/
LOCATION:Rainbowall – Via Galvani 51 F\, via Galvani 51F\, Roma\, 00153\, Italia
END:VEVENT
BEGIN:VEVENT
DTSTART;TZID=Europe/Rome:20240220T170000
DTEND;TZID=Europe/Rome:20240220T190000
DTSTAMP:20260421T174101
CREATED:20240129T103936Z
LAST-MODIFIED:20240129T104417Z
UID:2325-1708448400-1708455600@gaycenter.it
SUMMARY:Sportello Intercultura
DESCRIPTION:Necessaria prenotazione tramite mail info@gayhelpline.it o 800 713 713
URL:https://gaycenter.it/evento/sportello-intercultura-25/
LOCATION:via Zabaglia\, 14\, via Zabaglia\, 14\, Roma\, 00154\, Italia
END:VEVENT
BEGIN:VEVENT
DTSTART;TZID=Europe/Rome:20240221T183000
DTEND;TZID=Europe/Rome:20240221T200000
DTSTAMP:20260421T174101
CREATED:20240201T103323Z
LAST-MODIFIED:20240201T103323Z
UID:2343-1708540200-1708545600@gaycenter.it
SUMMARY:Test HIV
DESCRIPTION:Prenotazione su romacheckpoint.com
URL:https://gaycenter.it/evento/test-hiv-39/
LOCATION:Rainbowall – Via Galvani 51 F\, via Galvani 51F\, Roma\, 00153\, Italia
END:VEVENT
BEGIN:VEVENT
DTSTART;TZID=Europe/Rome:20240221T210000
DTEND;TZID=Europe/Rome:20240221T220000
DTSTAMP:20260421T174101
CREATED:20240129T104028Z
LAST-MODIFIED:20240129T104028Z
UID:2327-1708549200-1708552800@gaycenter.it
SUMMARY:Salsa Queer
DESCRIPTION:Salsa LGBT Friedly
URL:https://gaycenter.it/evento/salsa-queer-3/
LOCATION:Rainbowall – Via Galvani 51 F\, via Galvani 51F\, Roma\, 00153\, Italia
END:VEVENT
BEGIN:VEVENT
DTSTART;TZID=Europe/Rome:20240222T200000
DTEND;TZID=Europe/Rome:20240222T220000
DTSTAMP:20260421T174101
CREATED:20240129T104106Z
LAST-MODIFIED:20240129T104106Z
UID:2329-1708632000-1708639200@gaycenter.it
SUMMARY:Sincoro – Coro LGBT
DESCRIPTION:Ogni giovedì alle ore 20:00
URL:https://gaycenter.it/evento/sincoro-coro-lgbt-18/
LOCATION:Rainbowall – Via Galvani 51 F\, via Galvani 51F\, Roma\, 00153\, Italia
END:VEVENT
BEGIN:VEVENT
DTSTART;TZID=Europe/Rome:20240223T180000
DTEND;TZID=Europe/Rome:20240223T200000
DTSTAMP:20260421T174101
CREATED:20240129T104212Z
LAST-MODIFIED:20240129T104212Z
UID:2331-1708711200-1708718400@gaycenter.it
SUMMARY:Gruppo Giovani Under 27
DESCRIPTION:Socializzazione\, cultura\, dialogo e inclusione per tutte le persone under 27
URL:https://gaycenter.it/evento/gruppo-giovani-under-27-15/
LOCATION:Rainbowall – Via Galvani 51 F\, via Galvani 51F\, Roma\, 00153\, Italia
END:VEVENT
BEGIN:VEVENT
DTSTART;TZID=Europe/Rome:20240224T180000
DTEND;TZID=Europe/Rome:20240224T200000
DTSTAMP:20260421T174101
CREATED:20240122T101129Z
LAST-MODIFIED:20240129T104452Z
UID:2318-1708797600-1708804800@gaycenter.it
SUMMARY:Snart - Gruppo Giovani Trans
DESCRIPTION:Socializzazione\, cultura\, dialogo e inclusione per tutte le persone under 30
URL:https://gaycenter.it/evento/snart-gruppo-giovani-trans-2/
LOCATION:via Zabaglia\, 14\, via Zabaglia\, 14\, Roma\, 00154\, Italia
END:VEVENT
BEGIN:VEVENT
DTSTART;TZID=Europe/Rome:20240226T183000
DTEND;TZID=Europe/Rome:20240226T200000
DTSTAMP:20260421T174101
CREATED:20240201T103411Z
LAST-MODIFIED:20240201T103411Z
UID:2345-1708972200-1708977600@gaycenter.it
SUMMARY:Test HIV
DESCRIPTION:Prenotazione su romacheckpoint.com
URL:https://gaycenter.it/evento/test-hiv-40/
LOCATION:Rainbowall – Via Galvani 51 F\, via Galvani 51F\, Roma\, 00153\, Italia
END:VEVENT
BEGIN:VEVENT
DTSTART;TZID=Europe/Rome:20240227T170000
DTEND;TZID=Europe/Rome:20240227T190000
DTSTAMP:20260421T174101
CREATED:20240205T095545Z
LAST-MODIFIED:20240205T095545Z
UID:2362-1709053200-1709060400@gaycenter.it
SUMMARY:Archivio LGBT+
DESCRIPTION:Preferibile accesso su prenotazione a archivio@gaycenter.it
URL:https://gaycenter.it/evento/archivio-lgbt-37/
END:VEVENT
BEGIN:VEVENT
DTSTART;TZID=Europe/Rome:20240228T183000
DTEND;TZID=Europe/Rome:20240228T200000
DTSTAMP:20260421T174101
CREATED:20240201T103500Z
LAST-MODIFIED:20240201T103500Z
UID:2347-1709145000-1709150400@gaycenter.it
SUMMARY:Test HIV
DESCRIPTION:Prenotazione su romacheckpoint.com
URL:https://gaycenter.it/evento/test-hiv-41/
LOCATION:Rainbowall – Via Galvani 51 F\, via Galvani 51F\, Roma\, 00153\, Italia
END:VEVENT
BEGIN:VEVENT
DTSTART;TZID=Europe/Rome:20240228T210000
DTEND;TZID=Europe/Rome:20240228T223000
DTSTAMP:20260421T174101
CREATED:20240205T095649Z
LAST-MODIFIED:20240205T095649Z
UID:2364-1709154000-1709159400@gaycenter.it
SUMMARY:Salsa Queer
DESCRIPTION:Salsa LGBT Friedly
URL:https://gaycenter.it/evento/salsa-queer-4/
LOCATION:Rainbowall – Via Galvani 51 F\, via Galvani 51F\, Roma\, 00153\, Italia
END:VEVENT
BEGIN:VEVENT
DTSTART;TZID=Europe/Rome:20240229T200000
DTEND;TZID=Europe/Rome:20240229T220000
DTSTAMP:20260421T174101
CREATED:20240205T095747Z
LAST-MODIFIED:20240205T095747Z
UID:2366-1709236800-1709244000@gaycenter.it
SUMMARY:Sincoro – Coro LGBT
DESCRIPTION:Ogni giovedì alle ore 20:00
URL:https://gaycenter.it/evento/sincoro-coro-lgbt-19/
END:VEVENT
END:VCALENDAR