BEGIN:VCALENDAR
VERSION:2.0
PRODID:-//Gay Center - ECPv6.15.20//NONSGML v1.0//EN
CALSCALE:GREGORIAN
METHOD:PUBLISH
X-WR-CALNAME:Gay Center
X-ORIGINAL-URL:https://gaycenter.it
X-WR-CALDESC:Eventi per Gay Center
REFRESH-INTERVAL;VALUE=DURATION:PT1H
X-Robots-Tag:noindex
X-PUBLISHED-TTL:PT1H
BEGIN:VTIMEZONE
TZID:Europe/Rome
BEGIN:DAYLIGHT
TZOFFSETFROM:+0100
TZOFFSETTO:+0200
TZNAME:CEST
DTSTART:20230326T010000
END:DAYLIGHT
BEGIN:STANDARD
TZOFFSETFROM:+0200
TZOFFSETTO:+0100
TZNAME:CET
DTSTART:20231029T010000
END:STANDARD
BEGIN:DAYLIGHT
TZOFFSETFROM:+0100
TZOFFSETTO:+0200
TZNAME:CEST
DTSTART:20240331T010000
END:DAYLIGHT
BEGIN:STANDARD
TZOFFSETFROM:+0200
TZOFFSETTO:+0100
TZNAME:CET
DTSTART:20241027T010000
END:STANDARD
BEGIN:DAYLIGHT
TZOFFSETFROM:+0100
TZOFFSETTO:+0200
TZNAME:CEST
DTSTART:20250330T010000
END:DAYLIGHT
BEGIN:STANDARD
TZOFFSETFROM:+0200
TZOFFSETTO:+0100
TZNAME:CET
DTSTART:20251026T010000
END:STANDARD
END:VTIMEZONE
BEGIN:VEVENT
DTSTART;TZID=Europe/Rome:20240301T180000
DTEND;TZID=Europe/Rome:20240301T200000
DTSTAMP:20260421T155428
CREATED:20240205T095909Z
LAST-MODIFIED:20240227T092417Z
UID:2368-1709316000-1709323200@gaycenter.it
SUMMARY:Serata Giochi – edit Gruppo Giovani
DESCRIPTION:evento aperto a tutte e tutti gli amanti dei giochi da tavolo e di società \nsenza limiti d’età – organizzato nello spazio del Gruppo Giovani
URL:https://gaycenter.it/evento/gruppo-giovani-under-27-16/
END:VEVENT
BEGIN:VEVENT
DTSTART;TZID=Europe/Rome:20240305T170000
DTEND;TZID=Europe/Rome:20240305T190000
DTSTAMP:20260421T155428
CREATED:20240212T092326Z
LAST-MODIFIED:20240212T092326Z
UID:2374-1709658000-1709665200@gaycenter.it
SUMMARY:Archivio LGBT+
DESCRIPTION:Preferibile accesso su prenotazione a archivio@gaycenter.it
URL:https://gaycenter.it/evento/archivio-lgbt-38/
LOCATION:Rainbowall – Via Galvani 51 F\, via Galvani 51F\, Roma\, 00153\, Italia
END:VEVENT
BEGIN:VEVENT
DTSTART;TZID=Europe/Rome:20240305T170000
DTEND;TZID=Europe/Rome:20240305T190000
DTSTAMP:20260421T155428
CREATED:20240212T092410Z
LAST-MODIFIED:20240212T092410Z
UID:2376-1709658000-1709665200@gaycenter.it
SUMMARY:Sportello Intercultura
DESCRIPTION:Necessaria prenotazione tramite mail info@gayhelpline.it o 800 713 713
URL:https://gaycenter.it/evento/sportello-intercultura-26/
LOCATION:via Zabaglia\, 14\, via Zabaglia\, 14\, Roma\, 00154\, Italia
END:VEVENT
BEGIN:VEVENT
DTSTART;TZID=Europe/Rome:20240308T180000
DTEND;TZID=Europe/Rome:20240308T200000
DTSTAMP:20260421T155428
CREATED:20240212T092646Z
LAST-MODIFIED:20240212T092646Z
UID:2382-1709920800-1709928000@gaycenter.it
SUMMARY:Gruppo Giovani Under 27
DESCRIPTION:Socializzazione\, cultura\, dialogo e inclusione per tutte le persone under 27
URL:https://gaycenter.it/evento/gruppo-giovani-under-27-17/
LOCATION:Rainbowall – Via Galvani 51 F\, via Galvani 51F\, Roma\, 00153\, Italia
END:VEVENT
BEGIN:VEVENT
DTSTART;TZID=Europe/Rome:20240309T163000
DTEND;TZID=Europe/Rome:20240309T183000
DTSTAMP:20260421T155428
CREATED:20240212T092914Z
LAST-MODIFIED:20240212T092914Z
UID:2384-1710001800-1710009000@gaycenter.it
SUMMARY:Snart – Gruppo Giovani Trans
DESCRIPTION:Socializzazione\, cultura\, dialogo e inclusione per tutte le persone under 30
URL:https://gaycenter.it/evento/snart-gruppo-giovani-trans-4/
LOCATION:via Zabaglia\, 14\, via Zabaglia\, 14\, Roma\, 00154\, Italia
END:VEVENT
BEGIN:VEVENT
DTSTART;TZID=Europe/Rome:20240309T200000
DTEND;TZID=Europe/Rome:20240309T220000
DTSTAMP:20260421T155428
CREATED:20240212T092502Z
LAST-MODIFIED:20240305T103106Z
UID:2378-1710014400-1710021600@gaycenter.it
SUMMARY:Sincoro – Coro LGBT
DESCRIPTION:Eccezionalmente di venerdì alle ore 20:00
URL:https://gaycenter.it/evento/salsa-queer-5/
LOCATION:Rainbowall – Via Galvani 51 F\, via Galvani 51F\, Roma\, 00153\, Italia
END:VEVENT
BEGIN:VEVENT
DTSTART;TZID=Europe/Rome:20240311T183000
DTEND;TZID=Europe/Rome:20240311T200000
DTSTAMP:20260421T155428
CREATED:20240301T102522Z
LAST-MODIFIED:20240301T102522Z
UID:2435-1710181800-1710187200@gaycenter.it
SUMMARY:Test HIV
DESCRIPTION:Prenotazione su romacheckpoint.com
URL:https://gaycenter.it/evento/test-hiv-42/
LOCATION:Rainbowall – Via Galvani 51 F\, via Galvani 51F\, Roma\, 00153\, Italia
END:VEVENT
BEGIN:VEVENT
DTSTART;TZID=Europe/Rome:20240312T170000
DTEND;TZID=Europe/Rome:20240312T190000
DTSTAMP:20260421T155428
CREATED:20240219T090628Z
LAST-MODIFIED:20240219T090628Z
UID:2405-1710262800-1710270000@gaycenter.it
SUMMARY:Archivio LGBT+
DESCRIPTION:Preferibile accesso su prenotazione a archivio@gaycenter.it
URL:https://gaycenter.it/evento/archivio-lgbt-39/
LOCATION:Rainbowall – Via Galvani 51 F\, via Galvani 51F\, Roma\, 00153\, Italia
END:VEVENT
BEGIN:VEVENT
DTSTART;TZID=Europe/Rome:20240312T183000
DTEND;TZID=Europe/Rome:20240312T200000
DTSTAMP:20260421T155428
CREATED:20240301T102555Z
LAST-MODIFIED:20240301T102555Z
UID:2437-1710268200-1710273600@gaycenter.it
SUMMARY:Test HIV
DESCRIPTION:Prenotazione su romacheckpoint.com
URL:https://gaycenter.it/evento/test-hiv-43/
LOCATION:Rainbowall – Via Galvani 51 F\, via Galvani 51F\, Roma\, 00153\, Italia
END:VEVENT
BEGIN:VEVENT
DTSTART;TZID=Europe/Rome:20240314T200000
DTEND;TZID=Europe/Rome:20240314T213000
DTSTAMP:20260421T155428
CREATED:20240219T090719Z
LAST-MODIFIED:20240219T090719Z
UID:2407-1710446400-1710451800@gaycenter.it
SUMMARY:Sincoro – Coro LGBT
DESCRIPTION:Ogni giovedì alle ore 20:00
URL:https://gaycenter.it/evento/sincoro-coro-lgbt-20/
LOCATION:Rainbowall – Via Galvani 51 F\, via Galvani 51F\, Roma\, 00153\, Italia
END:VEVENT
BEGIN:VEVENT
DTSTART;TZID=Europe/Rome:20240315T180000
DTEND;TZID=Europe/Rome:20240315T200000
DTSTAMP:20260421T155428
CREATED:20240219T090814Z
LAST-MODIFIED:20240219T090947Z
UID:2409-1710525600-1710532800@gaycenter.it
SUMMARY:Serata Giochi – edit Gruppo Giovani
DESCRIPTION:evento aperto a tutte e tutti gli amanti dei giochi da tavolo e di società \nsenza limiti d’età – organizzato nello spazio del Gruppo Giovani
URL:https://gaycenter.it/evento/serata-giochi-edit-gruppo-giovani-2/
LOCATION:Rainbowall – Via Galvani 51 F\, via Galvani 51F\, Roma\, 00153\, Italia
END:VEVENT
BEGIN:VEVENT
DTSTART;TZID=Europe/Rome:20240316T170000
DTEND;TZID=Europe/Rome:20240316T190000
DTSTAMP:20260421T155428
CREATED:20240228T174452Z
LAST-MODIFIED:20240228T174452Z
UID:2428-1710608400-1710615600@gaycenter.it
SUMMARY:Piaceri e desideri
DESCRIPTION:Piaceri e desideri – conoscersi scoprirsi e amarsi\nWorkshop sulla sessualità – powered by Laboratorio Gay Help Line\n\n\nIn una società in cui i tabù sono all’ordine del giorno e in cui veniamo privatə della conoscenza di concetti fondamentali per la nostra salute come l’educazione al piacere e la sessualità consapevole\, vi proponiamo un momento di condivisione e riflessione con la psicologa e psicoterapeuta Dott.ssa Maria Luisa Iervolino – Psicoterapeuta e con le ostetriche di Associazione Selene\n\n\nUn workshop aperto a tuttə per affermare la validità di ogni corpo\, per parlare di piacere e di consenso\, di desiderio e consapevolezza.\n\n\nVi aspettiamo:\n sabato 16 marzo dalle ore 17 alle 20\n Gay Center\, vis L. Galvani 51 F\n\n\nScopriremo insieme l’importanza di una sessualità libera\, consapevole e sicura; parlando di anatomia\, fisiologia\, piacere\, desiderio\, fantasie e tanto altro.\n\n\nPosti limitati!\nPrenotati QUI: https://forms.gle/XcWs11tG2iyfXBtE6\n\n\nPer info scrivere a: info@gaycenter.it
URL:https://gaycenter.it/evento/piaceri-e-desideri/
LOCATION:Rainbowall – Via Galvani 51 F\, via Galvani 51F\, Roma\, 00153\, Italia
END:VEVENT
BEGIN:VEVENT
DTSTART;TZID=Europe/Rome:20240319T170000
DTEND;TZID=Europe/Rome:20240319T190000
DTSTAMP:20260421T155428
CREATED:20240227T095006Z
LAST-MODIFIED:20240227T095006Z
UID:2414-1710867600-1710874800@gaycenter.it
SUMMARY:Sportello Intercultura
DESCRIPTION:Necessaria prenotazione tramite mail info@gayhelpline.it o 800 713 713
URL:https://gaycenter.it/evento/sportello-intercultura-27/
LOCATION:via Zabaglia\, 14\, via Zabaglia\, 14\, Roma\, 00154\, Italia
END:VEVENT
BEGIN:VEVENT
DTSTART;TZID=Europe/Rome:20240319T170000
DTEND;TZID=Europe/Rome:20240319T190000
DTSTAMP:20260421T155428
CREATED:20240227T095044Z
LAST-MODIFIED:20240227T095044Z
UID:2416-1710867600-1710874800@gaycenter.it
SUMMARY:Archivio LGBT+
DESCRIPTION:Preferibile accesso su prenotazione a archivio@gaycenter.it
URL:https://gaycenter.it/evento/archivio-lgbt-40/
LOCATION:via Zabaglia\, 14\, via Zabaglia\, 14\, Roma\, 00154\, Italia
END:VEVENT
BEGIN:VEVENT
DTSTART;TZID=Europe/Rome:20240319T183000
DTEND;TZID=Europe/Rome:20240319T200000
DTSTAMP:20260421T155428
CREATED:20240301T102623Z
LAST-MODIFIED:20240301T102623Z
UID:2439-1710873000-1710878400@gaycenter.it
SUMMARY:Test HIV
DESCRIPTION:Prenotazione su romacheckpoint.com
URL:https://gaycenter.it/evento/test-hiv-44/
LOCATION:Rainbowall – Via Galvani 51 F\, via Galvani 51F\, Roma\, 00153\, Italia
END:VEVENT
BEGIN:VEVENT
DTSTART;TZID=Europe/Rome:20240321T200000
DTEND;TZID=Europe/Rome:20240321T220000
DTSTAMP:20260421T155428
CREATED:20240227T095122Z
LAST-MODIFIED:20240227T095122Z
UID:2418-1711051200-1711058400@gaycenter.it
SUMMARY:Sincoro – Coro LGBT
DESCRIPTION:Ogni giovedì alle ore 20:00
URL:https://gaycenter.it/evento/sincoro-coro-lgbt-21/
LOCATION:Rainbowall – Via Galvani 51 F\, via Galvani 51F\, Roma\, 00153\, Italia
END:VEVENT
BEGIN:VEVENT
DTSTART;TZID=Europe/Rome:20240322T180000
DTEND;TZID=Europe/Rome:20240322T200000
DTSTAMP:20260421T155428
CREATED:20240227T095155Z
LAST-MODIFIED:20240227T095155Z
UID:2420-1711130400-1711137600@gaycenter.it
SUMMARY:Gruppo Giovani Under 27
DESCRIPTION:Socializzazione\, cultura\, dialogo e inclusione per tutte le persone under 27\n\n\n\n\n\n\n\n\n\n\n\n18ç:20:00
URL:https://gaycenter.it/evento/gruppo-giovani-under-27-18/
LOCATION:Rainbowall – Via Galvani 51 F\, via Galvani 51F\, Roma\, 00153\, Italia
END:VEVENT
BEGIN:VEVENT
DTSTART;TZID=Europe/Rome:20240323T163000
DTEND;TZID=Europe/Rome:20240323T183000
DTSTAMP:20260421T155428
CREATED:20240227T095230Z
LAST-MODIFIED:20240227T095230Z
UID:2422-1711211400-1711218600@gaycenter.it
SUMMARY:Snart – Gruppo Giovani Trans
DESCRIPTION:Socializzazione\, cultura\, dialogo e inclusione per tutte le persone under 30
URL:https://gaycenter.it/evento/snart-gruppo-giovani-trans-5/
LOCATION:via Zabaglia\, 14\, via Zabaglia\, 14\, Roma\, 00154\, Italia
END:VEVENT
BEGIN:VEVENT
DTSTART;TZID=Europe/Rome:20240325T200000
DTEND;TZID=Europe/Rome:20240325T220000
DTSTAMP:20260421T155428
CREATED:20240304T092228Z
LAST-MODIFIED:20240322T120539Z
UID:2445-1711396800-1711404000@gaycenter.it
SUMMARY:Sincoro – Coro LGBT
DESCRIPTION:Eccezionalmente di lunedì \n  \nOgni giovedì alle ore 20:00
URL:https://gaycenter.it/evento/sincoro-coro-lgbt-22/
LOCATION:Rainbowall – Via Galvani 51 F\, via Galvani 51F\, Roma\, 00153\, Italia
END:VEVENT
BEGIN:VEVENT
DTSTART;TZID=Europe/Rome:20240326T170000
DTEND;TZID=Europe/Rome:20240326T190000
DTSTAMP:20260421T155428
CREATED:20240304T092148Z
LAST-MODIFIED:20240304T092148Z
UID:2443-1711472400-1711479600@gaycenter.it
SUMMARY:Archivio LGBT+
DESCRIPTION:Preferibile accesso su prenotazione a archivio@gaycenter.it
URL:https://gaycenter.it/evento/archivio-lgbt-41/
LOCATION:Rainbowall – Via Galvani 51 F\, via Galvani 51F\, Roma\, 00153\, Italia
END:VEVENT
BEGIN:VEVENT
DTSTART;TZID=Europe/Rome:20240326T183000
DTEND;TZID=Europe/Rome:20240326T200000
DTSTAMP:20260421T155428
CREATED:20240301T102659Z
LAST-MODIFIED:20240301T102659Z
UID:2441-1711477800-1711483200@gaycenter.it
SUMMARY:Test HIV
DESCRIPTION:Prenotazione su romacheckpoint.com
URL:https://gaycenter.it/evento/test-hiv-45/
LOCATION:Rainbowall – Via Galvani 51 F\, via Galvani 51F\, Roma\, 00153\, Italia
END:VEVENT
END:VCALENDAR