BEGIN:VCALENDAR
VERSION:2.0
PRODID:-//Gay Center - ECPv6.15.20//NONSGML v1.0//EN
CALSCALE:GREGORIAN
METHOD:PUBLISH
X-WR-CALNAME:Gay Center
X-ORIGINAL-URL:https://gaycenter.it
X-WR-CALDESC:Eventi per Gay Center
REFRESH-INTERVAL;VALUE=DURATION:PT1H
X-Robots-Tag:noindex
X-PUBLISHED-TTL:PT1H
BEGIN:VTIMEZONE
TZID:Europe/Rome
BEGIN:DAYLIGHT
TZOFFSETFROM:+0100
TZOFFSETTO:+0200
TZNAME:CEST
DTSTART:20230326T010000
END:DAYLIGHT
BEGIN:STANDARD
TZOFFSETFROM:+0200
TZOFFSETTO:+0100
TZNAME:CET
DTSTART:20231029T010000
END:STANDARD
BEGIN:DAYLIGHT
TZOFFSETFROM:+0100
TZOFFSETTO:+0200
TZNAME:CEST
DTSTART:20240331T010000
END:DAYLIGHT
BEGIN:STANDARD
TZOFFSETFROM:+0200
TZOFFSETTO:+0100
TZNAME:CET
DTSTART:20241027T010000
END:STANDARD
BEGIN:DAYLIGHT
TZOFFSETFROM:+0100
TZOFFSETTO:+0200
TZNAME:CEST
DTSTART:20250330T010000
END:DAYLIGHT
BEGIN:STANDARD
TZOFFSETFROM:+0200
TZOFFSETTO:+0100
TZNAME:CET
DTSTART:20251026T010000
END:STANDARD
END:VTIMEZONE
BEGIN:VEVENT
DTSTART;TZID=Europe/Rome:20240502T200000
DTEND;TZID=Europe/Rome:20240502T220000
DTSTAMP:20260421T120734
CREATED:20240415T081349Z
LAST-MODIFIED:20240415T081412Z
UID:2572-1714680000-1714687200@gaycenter.it
SUMMARY:Sincoro – Coro LGBT
DESCRIPTION:Ogni giovedì alle ore 20:00
URL:https://gaycenter.it/evento/sincoro-coro-lgbt-26/
LOCATION:Rainbowall – Via Galvani 51 F\, via Galvani 51F\, Roma\, 00153\, Italia
END:VEVENT
BEGIN:VEVENT
DTSTART;TZID=Europe/Rome:20240503T180000
DTEND;TZID=Europe/Rome:20240503T200000
DTSTAMP:20260421T120734
CREATED:20240415T081512Z
LAST-MODIFIED:20240415T081512Z
UID:2574-1714759200-1714766400@gaycenter.it
SUMMARY:Gruppo Giovani Under 27
DESCRIPTION:Socializzazione\, cultura\, dialogo e inclusione per tutte le persone under 27
URL:https://gaycenter.it/evento/gruppo-giovani-under-27-21/
LOCATION:Rainbowall – Via Galvani 51 F\, via Galvani 51F\, Roma\, 00153\, Italia
END:VEVENT
BEGIN:VEVENT
DTSTART;TZID=Europe/Rome:20240504T163000
DTEND;TZID=Europe/Rome:20240504T173000
DTSTAMP:20260421T120734
CREATED:20240415T081604Z
LAST-MODIFIED:20240415T081604Z
UID:2576-1714840200-1714843800@gaycenter.it
SUMMARY:Snart – Gruppo Giovani Trans
DESCRIPTION:Socializzazione\, cultura\, dialogo e inclusione per tutte le persone under 30
URL:https://gaycenter.it/evento/snart-gruppo-giovani-trans-8/
LOCATION:via Zabaglia\, 14\, via Zabaglia\, 14\, Roma\, 00154\, Italia
END:VEVENT
BEGIN:VEVENT
DTSTART;TZID=Europe/Rome:20240507T183000
DTEND;TZID=Europe/Rome:20240507T200000
DTSTAMP:20260421T120734
CREATED:20240502T125245Z
LAST-MODIFIED:20240502T125245Z
UID:2609-1715106600-1715112000@gaycenter.it
SUMMARY:Test HIV
DESCRIPTION:Prenotazione su romacheckpoint.com
URL:https://gaycenter.it/evento/test-hiv-50/
LOCATION:Rainbowall – Via Galvani 51 F\, via Galvani 51F\, Roma\, 00153\, Italia
END:VEVENT
BEGIN:VEVENT
DTSTART;TZID=Europe/Rome:20240508T160000
DTEND;TZID=Europe/Rome:20240508T210000
DTSTAMP:20260421T120734
CREATED:20240429T120608Z
LAST-MODIFIED:20240429T120608Z
UID:2594-1715184000-1715202000@gaycenter.it
SUMMARY:Archivio LGBT+
DESCRIPTION:Preferibile accesso su prenotazione a archivio@gaycenter.it
URL:https://gaycenter.it/evento/archivio-lgbt-47/
LOCATION:Rainbowall – Via Galvani 51 F\, via Galvani 51F\, Roma\, 00153\, Italia
END:VEVENT
BEGIN:VEVENT
DTSTART;TZID=Europe/Rome:20240509T200000
DTEND;TZID=Europe/Rome:20240509T220000
DTSTAMP:20260421T120734
CREATED:20240422T132705Z
LAST-MODIFIED:20240422T132705Z
UID:2590-1715284800-1715292000@gaycenter.it
SUMMARY:Sincoro – Coro LGBT
DESCRIPTION:Ogni giovedì alle ore 20:00
URL:https://gaycenter.it/evento/sincoro-coro-lgbt-27/
LOCATION:Rainbowall – Via Galvani 51 F\, via Galvani 51F\, Roma\, 00153\, Italia
END:VEVENT
BEGIN:VEVENT
DTSTART;TZID=Europe/Rome:20240513T183000
DTEND;TZID=Europe/Rome:20240513T200000
DTSTAMP:20260421T120734
CREATED:20240502T125324Z
LAST-MODIFIED:20240502T125324Z
UID:2611-1715625000-1715630400@gaycenter.it
SUMMARY:Test HIV
DESCRIPTION:Prenotazione su romacheckpoint.com
URL:https://gaycenter.it/evento/test-hiv-51/
LOCATION:Rainbowall – Via Galvani 51 F\, via Galvani 51F\, Roma\, 00153\, Italia
END:VEVENT
BEGIN:VEVENT
DTSTART;TZID=Europe/Rome:20240514T170000
DTEND;TZID=Europe/Rome:20240514T190000
DTSTAMP:20260421T120734
CREATED:20240429T120724Z
LAST-MODIFIED:20240429T120918Z
UID:2598-1715706000-1715713200@gaycenter.it
SUMMARY:Sportello Intercultura
DESCRIPTION:Necessaria prenotazione tramite mail info@gayhelpline.it o 800 713 713
URL:https://gaycenter.it/evento/sportello-intercultura-31/
LOCATION:via Zabaglia\, 14\, via Zabaglia\, 14\, Roma\, 00154\, Italia
END:VEVENT
BEGIN:VEVENT
DTSTART;TZID=Europe/Rome:20240515T170000
DTEND;TZID=Europe/Rome:20240515T210000
DTSTAMP:20260421T120734
CREATED:20240429T120639Z
LAST-MODIFIED:20240429T120639Z
UID:2596-1715792400-1715806800@gaycenter.it
SUMMARY:Archivio LGBT+
DESCRIPTION:Preferibile accesso su prenotazione a archivio@gaycenter.it
URL:https://gaycenter.it/evento/archivio-lgbt-48/
LOCATION:Rainbowall – Via Galvani 51 F\, via Galvani 51F\, Roma\, 00153\, Italia
END:VEVENT
BEGIN:VEVENT
DTSTART;TZID=Europe/Rome:20240515T183000
DTEND;TZID=Europe/Rome:20240515T200000
DTSTAMP:20260421T120734
CREATED:20240502T125356Z
LAST-MODIFIED:20240502T125356Z
UID:2613-1715797800-1715803200@gaycenter.it
SUMMARY:Test HIV
DESCRIPTION:Prenotazione su romacheckpoint.com
URL:https://gaycenter.it/evento/test-hiv-52/
LOCATION:Rainbowall – Via Galvani 51 F\, via Galvani 51F\, Roma\, 00153\, Italia
END:VEVENT
BEGIN:VEVENT
DTSTART;TZID=Europe/Rome:20240516T200000
DTEND;TZID=Europe/Rome:20240516T220000
DTSTAMP:20260421T120734
CREATED:20240429T120801Z
LAST-MODIFIED:20240429T120801Z
UID:2600-1715889600-1715896800@gaycenter.it
SUMMARY:Sincoro – Coro LGBT
DESCRIPTION:Ogni giovedì alle ore 20:00
URL:https://gaycenter.it/evento/sincoro-coro-lgbt-28/
END:VEVENT
BEGIN:VEVENT
DTSTART;TZID=Europe/Rome:20240517T180000
DTEND;TZID=Europe/Rome:20240517T200000
DTSTAMP:20260421T120734
CREATED:20240429T120847Z
LAST-MODIFIED:20240429T120847Z
UID:2602-1715968800-1715976000@gaycenter.it
SUMMARY:Gruppo Giovani Under 27
DESCRIPTION:Socializzazione\, cultura\, dialogo e inclusione per tutte le persone under 27
URL:https://gaycenter.it/evento/gruppo-giovani-under-27-22/
LOCATION:Rainbowall – Via Galvani 51 F\, via Galvani 51F\, Roma\, 00153\, Italia
END:VEVENT
BEGIN:VEVENT
DTSTART;TZID=Europe/Rome:20240522T160000
DTEND;TZID=Europe/Rome:20240522T210000
DTSTAMP:20260421T120734
CREATED:20240506T121544Z
LAST-MODIFIED:20240506T121544Z
UID:2619-1716393600-1716411600@gaycenter.it
SUMMARY:Archivio LGBT+
DESCRIPTION:Preferibile accesso su prenotazione a archivio@gaycenter.it
URL:https://gaycenter.it/evento/archivio-lgbt-49/
LOCATION:Rainbowall – Via Galvani 51 F\, via Galvani 51F\, Roma\, 00153\, Italia
END:VEVENT
BEGIN:VEVENT
DTSTART;TZID=Europe/Rome:20240522T170000
DTEND;TZID=Europe/Rome:20240522T200000
DTSTAMP:20260421T120734
CREATED:20240502T125439Z
LAST-MODIFIED:20240515T165719Z
UID:2615-1716397200-1716408000@gaycenter.it
SUMMARY:Test HIV
DESCRIPTION:Prenotazione su romacheckpoint.com
URL:https://gaycenter.it/evento/test-hiv-53/
LOCATION:Rainbowall – Via Galvani 51 F\, via Galvani 51F\, Roma\, 00153\, Italia
END:VEVENT
BEGIN:VEVENT
DTSTART;TZID=Europe/Rome:20240524T180000
DTEND;TZID=Europe/Rome:20240524T200000
DTSTAMP:20260421T120734
CREATED:20240506T121652Z
LAST-MODIFIED:20240506T122317Z
UID:2621-1716573600-1716580800@gaycenter.it
SUMMARY:Serata Giochi – edit Gruppo Giovani
DESCRIPTION:evento aperto a tutte e tutti gli amanti dei giochi da tavolo e di società \nsenza limiti d’età – organizzato nello spazio del Gruppo Giovani
URL:https://gaycenter.it/evento/serata-giochi-edit-gruppo-giovani-5/
LOCATION:Rainbowall – Via Galvani 51 F\, via Galvani 51F\, Roma\, 00153\, Italia
END:VEVENT
BEGIN:VEVENT
DTSTART;TZID=Europe/Rome:20240528T170000
DTEND;TZID=Europe/Rome:20240528T190000
DTSTAMP:20260421T120734
CREATED:20240513T145818Z
LAST-MODIFIED:20240513T145818Z
UID:2624-1716915600-1716922800@gaycenter.it
SUMMARY:Sportello Intercultura
DESCRIPTION:Necessaria prenotazione tramite mail info@gayhelpline.it o 800 713 713
URL:https://gaycenter.it/evento/sportello-intercultura-32/
LOCATION:via Zabaglia\, 14\, via Zabaglia\, 14\, Roma\, 00154\, Italia
END:VEVENT
BEGIN:VEVENT
DTSTART;TZID=Europe/Rome:20240528T183000
DTEND;TZID=Europe/Rome:20240528T200000
DTSTAMP:20260421T120734
CREATED:20240502T125534Z
LAST-MODIFIED:20240502T125534Z
UID:2617-1716921000-1716926400@gaycenter.it
SUMMARY:Test HIV
DESCRIPTION:Prenotazione su romacheckpoint.com
URL:https://gaycenter.it/evento/test-hiv-54/
LOCATION:Rainbowall – Via Galvani 51 F\, via Galvani 51F\, Roma\, 00153\, Italia
END:VEVENT
BEGIN:VEVENT
DTSTART;TZID=Europe/Rome:20240529T160000
DTEND;TZID=Europe/Rome:20240529T210000
DTSTAMP:20260421T120734
CREATED:20240513T145908Z
LAST-MODIFIED:20240513T145908Z
UID:2626-1716998400-1717016400@gaycenter.it
SUMMARY:Archivio LGBT+
DESCRIPTION:Preferibile accesso su prenotazione a archivio@gaycenter.it
URL:https://gaycenter.it/evento/archivio-lgbt-50/
LOCATION:Rainbowall – Via Galvani 51 F\, via Galvani 51F\, Roma\, 00153\, Italia
END:VEVENT
BEGIN:VEVENT
DTSTART;TZID=Europe/Rome:20240531T180000
DTEND;TZID=Europe/Rome:20240531T200000
DTSTAMP:20260421T120734
CREATED:20240513T145951Z
LAST-MODIFIED:20240513T145951Z
UID:2628-1717178400-1717185600@gaycenter.it
SUMMARY:Gruppo Giovani Under 27
DESCRIPTION:Socializzazione\, cultura\, dialogo e inclusione per tutte le persone under 27
URL:https://gaycenter.it/evento/gruppo-giovani-under-27-23/
LOCATION:Rainbowall – Via Galvani 51 F\, via Galvani 51F\, Roma\, 00153\, Italia
END:VEVENT
END:VCALENDAR